BEGIN:VCALENDAR
PRODID:Hesper.lu Event
VERSION:2.0
CALSCALE:GREGORIAN
BEGIN:VEVENT
UID:f88123a895b2fa1350bc7bda2154f85e
DTSTAMP:20260422T104031Z
SUMMARY:Verre
DESCRIPTION:
DTSTART:20221206T060000
DTEND:20221206T160000
LOCATION:Administration communale de Hesperange
GEO:49.572003;6.159453
X-APPLE-STRUCTURED-LOCATION;VALUE=URI;X-ADDRESS=Administration communale de
  Hesperange;X-APPLE-RADIUS=49;X-TITLE=:geo:49.572003,6.159453
END:VEVENT
END:VCALENDAR
