BEGIN:VCALENDAR
PRODID:Hesper.lu Event
VERSION:2.0
CALSCALE:GREGORIAN
BEGIN:VEVENT
UID:d63582e9278ec20ab5d58acb22824f29
DTSTAMP:20260422T103406Z
SUMMARY:Journée internationale des personnes âgées
DESCRIPTION:Ateliers créatifs: 14h00 - 16h00\nPartie officielle: 16h30 - M
 ot d'acueil - Présentation des projets - Performance artistique - Concert
  d'apéro
DTSTART:20221001T120000
DTEND:20221001T180000
LOCATION:Centre multifonctionnel CELO
GEO:49.571494;6.159870
X-APPLE-STRUCTURED-LOCATION;VALUE=URI;X-ADDRESS=Centre multifonctionnel CEL
 O;X-APPLE-RADIUS=49;X-TITLE=:geo:49.571494,6.159870
END:VEVENT
END:VCALENDAR
