BEGIN:VCALENDAR
PRODID:Hesper.lu Event
VERSION:2.0
CALSCALE:GREGORIAN
BEGIN:VEVENT
UID:11f7beb9491a1efddb33a1f8956d2259
DTSTAMP:20260422T103003Z
SUMMARY:Séance académique "200 ans Commune de Hesperange"
DESCRIPTION:a partir de 19.00 heures en la salle "Marie-Thérèse Gantenbei
 n" au CELO  &nbsp\;\n\n\n
DTSTART:20230930T190000
DTEND:20230930T210000
LOCATION:Centre multifonctionnel CELO
GEO:49.571494;6.159870
X-APPLE-STRUCTURED-LOCATION;VALUE=URI;X-ADDRESS=Centre multifonctionnel CEL
 O;X-APPLE-RADIUS=49;X-TITLE=:geo:49.571494,6.159870
END:VEVENT
END:VCALENDAR
