BEGIN:VCALENDAR
PRODID:Hesper.lu Event
VERSION:2.0
CALSCALE:GREGORIAN
BEGIN:VEVENT
UID:c9f863630281fdeed4d5988f94f6a6c7
DTSTAMP:20260423T085541Z
SUMMARY:Déchets ménagers
DESCRIPTION:
DTSTART:20240515T070000
DTEND:20240515T170000
LOCATION:Administration communale de Hesperange
GEO:49.572003;6.159453
X-APPLE-STRUCTURED-LOCATION;VALUE=URI;X-ADDRESS=Administration communale de
  Hesperange;X-APPLE-RADIUS=49;X-TITLE=:geo:49.572003,6.159453
END:VEVENT
END:VCALENDAR
