BEGIN:VCALENDAR
PRODID:Hesper.lu Event
VERSION:2.0
CALSCALE:GREGORIAN
BEGIN:VEVENT
UID:067a5cb754b0ad916d01c10136ced7e6
DTSTAMP:20260422T102213Z
SUMMARY:Marché aux produits frais
DESCRIPTION:
DTSTART:20250319T150000
DTEND:20250319T190000
LOCATION:Administration communale de Hesperange
GEO:49.572003;6.159453
X-APPLE-STRUCTURED-LOCATION;VALUE=URI;X-ADDRESS=Administration communale de
  Hesperange;X-APPLE-RADIUS=49;X-TITLE=:geo:49.572003,6.159453
END:VEVENT
END:VCALENDAR
