BEGIN:VCALENDAR
PRODID:Hesper.lu Event
VERSION:2.0
CALSCALE:GREGORIAN
BEGIN:VEVENT
UID:d7367f0033f399a8d1f8990267aa0984
DTSTAMP:20260423T145912Z
SUMMARY:Bicherbus
DESCRIPTION:Passage à Hesperange de 8h30 à 9h20 (rte de Thionville)\, vis
 -à-vis de la mairie de Hesperange
DTSTART:20250111T083000
DTEND:20250111T092000
LOCATION:Administration communale de Hesperange
GEO:49.572003;6.159453
X-APPLE-STRUCTURED-LOCATION;VALUE=URI;X-ADDRESS=Administration communale de
  Hesperange;X-APPLE-RADIUS=49;X-TITLE=:geo:49.572003,6.159453
END:VEVENT
END:VCALENDAR
