BEGIN:VCALENDAR
PRODID:Hesper.lu Event
VERSION:2.0
CALSCALE:GREGORIAN
BEGIN:VEVENT
UID:9107c56eac9492b4d79c9521ed371f56
DTSTAMP:20260422T101802Z
SUMMARY:Hesper Family Weekend
DESCRIPTION:Le week-end du 31 mai et 1 juin\, nous organisons à nouveau no
 tre populaire Family Week-End au parc d'Hesperange. Des châteaux gonflabl
 es et des animations pour les petits seront proposés. Venez nombreux\, il
  y aura aussi à boire et à manger.Samedi 14h-18hDimanche 10h-18hEntrée 
 pour les enfants: 10€ pour 1 jour\, 15€ pour 2 jours.
DTSTART:20250531T140000
DTEND:20250531T180000
LOCATION:Parc communal Hesperange
GEO:49.571164;6.158457
X-APPLE-STRUCTURED-LOCATION;VALUE=URI;X-ADDRESS=Parc communal Hesperange;X-
 APPLE-RADIUS=49;X-TITLE=:geo:49.571164,6.158457
END:VEVENT
END:VCALENDAR
