BEGIN:VCALENDAR
PRODID:Hesper.lu Event
VERSION:2.0
CALSCALE:GREGORIAN
BEGIN:VEVENT
UID:20c1b5c91d98bfb4fbc070020532d007
DTSTAMP:20260420T161211Z
SUMMARY:Halloween-Party
DESCRIPTION:Adults Party: 20.00 - 02.00 heuresEntrée: 5€ (Caisse du soir
 )Prévente: ticket24.lu
DTSTART:20251031T200000
DTEND:20251101T020000
LOCATION:Centre Joseph Altmann
GEO:49.571899;6.155462
X-APPLE-STRUCTURED-LOCATION;VALUE=URI;X-ADDRESS=Centre Joseph Altmann;X-APP
 LE-RADIUS=49;X-TITLE=:geo:49.571899,6.155462
END:VEVENT
END:VCALENDAR
