BEGIN:VCALENDAR
PRODID:Hesper.lu Event
VERSION:2.0
CALSCALE:GREGORIAN
BEGIN:VEVENT
UID:8e90f8779437a8067303638e709cbf17
DTSTAMP:20260421T111102Z
SUMMARY:Marché aux produits frais
DESCRIPTION:chaque 2e mercredi de 15.00 heures à 19.00 heures devant la ma
 irie à Hesperange
DTSTART:20260513T150000
DTEND:20260513T190000
LOCATION:Administration communale de Hesperange
GEO:49.572003;6.159453
X-APPLE-STRUCTURED-LOCATION;VALUE=URI;X-ADDRESS=Administration communale de
  Hesperange;X-APPLE-RADIUS=49;X-TITLE=:geo:49.572003,6.159453
END:VEVENT
END:VCALENDAR
