BEGIN:VCALENDAR
PRODID:Hesper.lu Event
VERSION:2.0
CALSCALE:GREGORIAN
BEGIN:VEVENT
UID:914b134e4be510862899f52ec5b31d07
DTSTAMP:20260421T122926Z
SUMMARY:Marché aux produits frais
DESCRIPTION:chaque 2e mercredi de 15.00 heures à 19.00 heures devant la ma
 irie à Hesperange
DTSTART:20260624T150000
DTEND:20260624T190000
LOCATION:Administration communale de Hesperange
GEO:49.572003;6.159453
X-APPLE-STRUCTURED-LOCATION;VALUE=URI;X-ADDRESS=Administration communale de
  Hesperange;X-APPLE-RADIUS=49;X-TITLE=:geo:49.572003,6.159453
END:VEVENT
END:VCALENDAR
