BEGIN:VCALENDAR
PRODID:Hesper.lu Event
VERSION:2.0
CALSCALE:GREGORIAN
BEGIN:VEVENT
UID:a81c27d99c888850188236f108f17908
DTSTAMP:20260421T081210Z
SUMMARY:Schluechtfest mat Bingo
DESCRIPTION:Organisation : Volleyball Club Fentange\nRéservation : info@vc
 f.lu ou par téléphone 691 25 09 81 (après 18h00)
DTSTART:20260308T110000
DTEND:20260308T150000
LOCATION:Centre Joseph Altmann
GEO:49.571899;6.155462
X-APPLE-STRUCTURED-LOCATION;VALUE=URI;X-ADDRESS=Centre Joseph Altmann;X-APP
 LE-RADIUS=49;X-TITLE=:geo:49.571899,6.155462
END:VEVENT
END:VCALENDAR
