BEGIN:VCALENDAR
PRODID:Hesper.lu Event
VERSION:2.0
CALSCALE:GREGORIAN
BEGIN:VEVENT
UID:55e4bae11ac87a7146bc996609a899ee
DTSTAMP:20260419T200258Z
SUMMARY:-La flûte enchantée de Luna-
DESCRIPTION:Conte musical de Blaz Pucihar\navec la participation de la clas
 se de théâtre et de l'ensemble de flûtes sous la direction de Natalia S
 anchez et Martine Roster.\nle jeudi 23 avril 2026 à 18h30 au CELO à Hesp
 erange
DTSTART:20260423T183000
DTEND:20260423T203000
LOCATION:Centre multifonctionnel CELO
GEO:49.571494;6.159870
X-APPLE-STRUCTURED-LOCATION;VALUE=URI;X-ADDRESS=Centre multifonctionnel CEL
 O;X-APPLE-RADIUS=49;X-TITLE=:geo:49.571494,6.159870
END:VEVENT
END:VCALENDAR
