BEGIN:VCALENDAR
PRODID:Hesper.lu Event
VERSION:2.0
CALSCALE:GREGORIAN
BEGIN:VEVENT
UID:1efa03bb1b385505e8317ccf38363d76
DTSTAMP:20260419T162640Z
SUMMARY:Concert de printemps
DESCRIPTION:Concert de printemps -Souvenirs\, Souvenirs-direction: Lynn Moh
 rle 25 avril 2026 à 19h30 au CELO à Hesperange\n\nPlus d'infos sur: http
 s://fanfizeg.org\n\n
DTSTART:20260425T193000
DTEND:20260425T213000
LOCATION:Centre multifonctionnel CELO
GEO:49.571494;6.159870
X-APPLE-STRUCTURED-LOCATION;VALUE=URI;X-ADDRESS=Centre multifonctionnel CEL
 O;X-APPLE-RADIUS=49;X-TITLE=:geo:49.571494,6.159870
END:VEVENT
END:VCALENDAR
