BEGIN:VCALENDAR
PRODID:Hesper.lu Event
VERSION:2.0
CALSCALE:GREGORIAN
BEGIN:VEVENT
UID:fae7d0721fd487d13208a3fe21586ab2
DTSTAMP:20211005T192148Z
SUMMARY:Café Babel
DESCRIPTION:Venez partiquer des langues: Lëtzebuergesch\n Français Deutsc
 h English Italiano Espanol Portugès \nChaque 4e mardi du mois
DTSTART:20211026T190000
DTEND:20211026T210000
LOCATION:Centre multifonctionnel CELO
GEO:49.571494;6.159870
X-APPLE-STRUCTURED-LOCATION;VALUE=URI;X-ADDRESS=Centre multifonctionnel CEL
 O;X-APPLE-RADIUS=49;X-TITLE=:geo:49.571494,6.159870
END:VEVENT
END:VCALENDAR
