BEGIN:VCALENDAR
PRODID:Hesper.lu Event
VERSION:2.0
CALSCALE:GREGORIAN
BEGIN:VEVENT
UID:0a39da63916250c9f618d37e32b48601
DTSTAMP:20260424T193129Z
SUMMARY:Marché aux produits frais
DESCRIPTION:Marché aux produits frais à Hesperange devant la mairie à He
 sperange.\nChaque 2e mercredi de 15h00 à 19h00.
DTSTART:20211006T130000
DTEND:20211006T170000
LOCATION:Administration communale de Hesperange
GEO:49.572003;6.159453
X-APPLE-STRUCTURED-LOCATION;VALUE=URI;X-ADDRESS=Administration communale de
  Hesperange;X-APPLE-RADIUS=49;X-TITLE=:geo:49.572003,6.159453
END:VEVENT
END:VCALENDAR
