BEGIN:VCALENDAR
PRODID:Hesper.lu Event
VERSION:2.0
CALSCALE:GREGORIAN
BEGIN:VEVENT
UID:73ed3bfd2afb3f8670d664587bb02e6d
DTSTAMP:20211005T192133Z
SUMMARY:Marché aux produits frais
DESCRIPTION:Marché aux produits frais à Hesperange devant la mairie à He
 sperange.\nChaque 2e mercredi de 15h00 à 19h00.
DTSTART:20211020T150000
DTEND:20211020T190000
LOCATION:Administration communale de Hesperange
GEO:49.572003;6.159453
X-APPLE-STRUCTURED-LOCATION;VALUE=URI;X-ADDRESS=Administration communale de
  Hesperange;X-APPLE-RADIUS=49;X-TITLE=:geo:49.572003,6.159453
END:VEVENT
END:VCALENDAR
