BEGIN:VCALENDAR
PRODID:Hesper.lu Event
VERSION:2.0
CALSCALE:GREGORIAN
BEGIN:VEVENT
UID:62af2360e6c4b2561d144ce2d249d847
DTSTAMP:20211005T192142Z
SUMMARY:Marché aux produits frais
DESCRIPTION:Marché aux produits frais à Hesperange devant la mairie à He
 sperange.\nChaque 2e mercredi de 15h00 à 19h00.
DTSTART:20211103T150000
DTEND:20211103T190000
LOCATION:Administration communale de Hesperange
GEO:49.572003;6.159453
X-APPLE-STRUCTURED-LOCATION;VALUE=URI;X-ADDRESS=Administration communale de
  Hesperange;X-APPLE-RADIUS=49;X-TITLE=:geo:49.572003,6.159453
END:VEVENT
END:VCALENDAR
