BEGIN:VCALENDAR
PRODID:Hesper.lu Event
VERSION:2.0
CALSCALE:GREGORIAN
BEGIN:VEVENT
UID:5e356f9ddefc6aa9313664ea18269c76
DTSTAMP:20211005T192141Z
SUMMARY:Bicherbus
DESCRIPTION:chaque dernier samedi du mois&nbsp\;de 8h30 à 9h20 (411\, rte 
 de Thionville à Hesperange) &nbsp\;
DTSTART:20211030T083000
DTEND:20211030T092000
LOCATION:Bicherbus
GEO:49.572669;6.160256
X-APPLE-STRUCTURED-LOCATION;VALUE=URI;X-ADDRESS=Bicherbus;X-APPLE-RADIUS=49
 ;X-TITLE=:geo:49.572669,6.160256
END:VEVENT
END:VCALENDAR
