BEGIN:VCALENDAR
PRODID:Hesper.lu Event
VERSION:2.0
CALSCALE:GREGORIAN
BEGIN:VEVENT
UID:738d0d2b4d8f2eeb6b0770c8e678a02f
DTSTAMP:20211005T192143Z
SUMMARY:Pilzwanderung
DESCRIPTION:R-v à 10h00 Rue Langheck à Alzingen Aucune inscription est re
 quise.
DTSTART:20211017T100000
DTEND:20211017T120000
END:VEVENT
END:VCALENDAR
