BEGIN:VCALENDAR
PRODID:Hesper.lu Event
VERSION:2.0
CALSCALE:GREGORIAN
BEGIN:VEVENT
UID:2f9a1df1b6985b6fe1803592bef30315
DTSTAMP:20211005T192950Z
SUMMARY:Vollmond Konzert (Yoga/Relaxation)
DESCRIPTION:Billets: 15€ / 7€ Réservation: +352 36 08 08 - 2205/2226 c
 ourriel:&nbsp\;sandra.dossantos@hesperange.lu&nbsp\;/ frederic.theis@hespe
 range.lu\n\n
DTSTART:20211020T210000
DTEND:20211020T230000
LOCATION:Centre multifonctionnel CELO
GEO:49.571494;6.159870
X-APPLE-STRUCTURED-LOCATION;VALUE=URI;X-ADDRESS=Centre multifonctionnel CEL
 O;X-APPLE-RADIUS=49;X-TITLE=:geo:49.571494,6.159870
END:VEVENT
END:VCALENDAR
