BEGIN:VCALENDAR
PRODID:Hesper.lu Event
VERSION:2.0
CALSCALE:GREGORIAN
BEGIN:VEVENT
UID:6993aae5883844e50a9287659ea5c2fc
DTSTAMP:20211005T192944Z
SUMMARY:Spendeconcert "Kanner trommele fir Kanner"
DESCRIPTION:Concert de charité au profit de Rokku Mi Rokka Entrée gratuit
 e&nbsp\; Réservation: spendeconcert@rokkumirokka.lu\nGSM: +352 621 439 33
 3 (9h00 - 11h00 / 16h00 - 18h00)
DTSTART:20211010T160000
DTEND:20211010T180000
LOCATION:Centre multifonctionnel CELO
GEO:49.571494;6.159870
X-APPLE-STRUCTURED-LOCATION;VALUE=URI;X-ADDRESS=Centre multifonctionnel CEL
 O;X-APPLE-RADIUS=49;X-TITLE=:geo:49.571494,6.159870
END:VEVENT
END:VCALENDAR
