BEGIN:VCALENDAR
PRODID:Hesper.lu Event
VERSION:2.0
CALSCALE:GREGORIAN
BEGIN:VEVENT
UID:a30e8345319b74ac8ba71f6bdd2d5cba
DTSTAMP:20211005T192136Z
SUMMARY:Ambiance Jardins
DESCRIPTION:Entrée: 7€ (valable pour les 2 jours)
DTSTART:20211023T100000
DTEND:20211024T180000
LOCATION:Parc communal Hesperange
GEO:49.571164;6.158457
X-APPLE-STRUCTURED-LOCATION;VALUE=URI;X-ADDRESS=Parc communal Hesperange;X-
 APPLE-RADIUS=49;X-TITLE=:geo:49.571164,6.158457
END:VEVENT
END:VCALENDAR
