BEGIN:VCALENDAR
PRODID:Hesper.lu Event
VERSION:2.0
CALSCALE:GREGORIAN
BEGIN:VEVENT
UID:fb27fed8247e1169d9ce09bdea6d8c93
DTSTAMP:20211005T192146Z
SUMMARY:Inauguration de la kermesse à Hesperange
DESCRIPTION:
DTSTART:20211023T180000
DTEND:20211023T190000
LOCATION:Chalet am Park
GEO:49.570276;6.158230
X-APPLE-STRUCTURED-LOCATION;VALUE=URI;X-ADDRESS=Chalet am Park;X-APPLE-RADI
 US=49;X-TITLE=:geo:49.570276,6.158230
END:VEVENT
END:VCALENDAR
