BEGIN:VCALENDAR
PRODID:Hesper.lu Event
VERSION:2.0
CALSCALE:GREGORIAN
BEGIN:VEVENT
UID:684500c4b2331f7a655ca81b65e996c2
DTSTAMP:20260424T185339Z
SUMMARY:Concert de piano - Songs of love - David Ianni
DESCRIPTION:\nEntrée: 20€ Réservation: www.luxembourg-ticket.lu\n\n
DTSTART:20211029T180000
DTEND:20211029T200000
LOCATION:CELO (Foyer)
GEO:49.571494;6.159870
X-APPLE-STRUCTURED-LOCATION;VALUE=URI;X-ADDRESS=CELO (Foyer);X-APPLE-RADIUS
 =49;X-TITLE=:geo:49.571494,6.159870
END:VEVENT
END:VCALENDAR
