BEGIN:VCALENDAR
PRODID:Hesper.lu Event
VERSION:2.0
CALSCALE:GREGORIAN
BEGIN:VEVENT
UID:b5441cb8ed7ebde2859d09e0e0a80b9c
DTSTAMP:20260422T103223Z
SUMMARY:Full Moon Concert "time out"
DESCRIPTION:"time out" - chill out on a sound island with Sakiko &amp\; Sve
 n\nAttention: le concert se déroulera au Centre Nicolas Braun (au côté 
 droit de la mairie) !!
DTSTART:20220425T183000
DTEND:20220425T193000
LOCATION:Centre Nicolas Braun
GEO:49.572164;6.158613
X-APPLE-STRUCTURED-LOCATION;VALUE=URI;X-ADDRESS=Centre Nicolas Braun;X-APPL
 E-RADIUS=49;X-TITLE=:geo:49.572164,6.158613
END:VEVENT
END:VCALENDAR
